BEGIN:VCALENDAR
VERSION:2.0
PRODID:-//沖縄マリンスポーツ スルル - ECPv6.15.17//NONSGML v1.0//EN
CALSCALE:GREGORIAN
METHOD:PUBLISH
X-WR-CALNAME:沖縄マリンスポーツ スルル
X-ORIGINAL-URL:https://sururu58.com
X-WR-CALDESC:沖縄マリンスポーツ スルル のイベント
REFRESH-INTERVAL;VALUE=DURATION:PT1H
X-Robots-Tag:noindex
X-PUBLISHED-TTL:PT1H
BEGIN:VTIMEZONE
TZID:Asia/Tokyo
BEGIN:STANDARD
TZOFFSETFROM:+0900
TZOFFSETTO:+0900
TZNAME:JST
DTSTART:20240101T000000
END:STANDARD
END:VTIMEZONE
BEGIN:VEVENT
DTSTART;VALUE=DATE:20251118
DTEND;VALUE=DATE:20251119
DTSTAMP:20260420T075112
CREATED:20251106T004552Z
LAST-MODIFIED:20251106T004552Z
UID:48974-1763424000-1763510399@sururu58.com
SUMMARY:11月休み
DESCRIPTION:
URL:https://sururu58.com/event/%e5%ae%9a%e4%bc%91%e6%97%a5-2-2-2-2-2-2-2-2-2-2-2-2-14-8/
CATEGORIES:holiday
END:VEVENT
END:VCALENDAR