BEGIN:VCALENDAR
VERSION:2.0
PRODID:-//沖縄マリンスポーツ スルル - ECPv6.15.17//NONSGML v1.0//EN
CALSCALE:GREGORIAN
METHOD:PUBLISH
X-ORIGINAL-URL:https://sururu58.com
X-WR-CALDESC:沖縄マリンスポーツ スルル のイベント
REFRESH-INTERVAL;VALUE=DURATION:PT1H
X-Robots-Tag:noindex
X-PUBLISHED-TTL:PT1H
BEGIN:VTIMEZONE
TZID:Asia/Tokyo
BEGIN:STANDARD
TZOFFSETFROM:+0900
TZOFFSETTO:+0900
TZNAME:JST
DTSTART:20250101T000000
END:STANDARD
END:VTIMEZONE
BEGIN:VEVENT
DTSTART;VALUE=DATE:20260305
DTEND;VALUE=DATE:20260306
DTSTAMP:20260419T235200
CREATED:20260304T015515Z
LAST-MODIFIED:20260304T015515Z
UID:49413-1772668800-1772755199@sururu58.com
SUMMARY:3月5日　休み
DESCRIPTION:
URL:https://sururu58.com/event/%e5%ae%9a%e4%bc%91%e6%97%a5-2-2-2-2-2-2-2-2-2-2-2-2-14-11-3-3-7-2/
CATEGORIES:holiday
END:VEVENT
BEGIN:VEVENT
DTSTART;VALUE=DATE:20260309
DTEND;VALUE=DATE:20260310
DTSTAMP:20260419T235200
CREATED:20260226T064816Z
LAST-MODIFIED:20260226T064816Z
UID:49381-1773014400-1773100799@sururu58.com
SUMMARY:3月9日　休み
DESCRIPTION:
URL:https://sururu58.com/event/%e5%ae%9a%e4%bc%91%e6%97%a5-2-2-2-2-2-2-2-2-2-2-2-2-14-11-3-3-7/
CATEGORIES:holiday
END:VEVENT
BEGIN:VEVENT
DTSTART;VALUE=DATE:20260315
DTEND;VALUE=DATE:20260316
DTSTAMP:20260419T235200
CREATED:20260313T072116Z
LAST-MODIFIED:20260313T072202Z
UID:49475-1773532800-1773619199@sururu58.com
SUMMARY:3月15日　休み
DESCRIPTION:
URL:https://sururu58.com/event/%e5%ae%9a%e4%bc%91%e6%97%a5-2-2-2-2-2-2-2-2-2-2-2-2-14-11-3-8-10/
CATEGORIES:holiday
END:VEVENT
BEGIN:VEVENT
DTSTART;VALUE=DATE:20260316
DTEND;VALUE=DATE:20260317
DTSTAMP:20260419T235200
CREATED:20260223T234724Z
LAST-MODIFIED:20260223T234724Z
UID:49378-1773619200-1773705599@sururu58.com
SUMMARY:3月16日　休み
DESCRIPTION:
URL:https://sururu58.com/event/%e5%ae%9a%e4%bc%91%e6%97%a5-2-2-2-2-2-2-2-2-2-2-2-2-14-11-3-3-5/
CATEGORIES:holiday
END:VEVENT
BEGIN:VEVENT
DTSTART;VALUE=DATE:20260317
DTEND;VALUE=DATE:20260318
DTSTAMP:20260419T235200
CREATED:20260308T013706Z
LAST-MODIFIED:20260308T013726Z
UID:49429-1773705600-1773791999@sururu58.com
SUMMARY:3月17日　休み
DESCRIPTION:
URL:https://sururu58.com/event/%e5%ae%9a%e4%bc%91%e6%97%a5-2-2-2-2-2-2-2-2-2-2-2-2-14-11-3-3-5-2/
CATEGORIES:holiday
END:VEVENT
BEGIN:VEVENT
DTSTART;VALUE=DATE:20260318
DTEND;VALUE=DATE:20260319
DTSTAMP:20260419T235200
CREATED:20260223T234745Z
LAST-MODIFIED:20260223T234745Z
UID:49377-1773792000-1773878399@sururu58.com
SUMMARY:3月18日　休み
DESCRIPTION:
URL:https://sururu58.com/event/%e5%ae%9a%e4%bc%91%e6%97%a5-2-2-2-2-2-2-2-2-2-2-2-2-14-11-3-3-6/
CATEGORIES:holiday
END:VEVENT
BEGIN:VEVENT
DTSTART;TZID=Asia/Tokyo:20260326T000000
DTEND;TZID=Asia/Tokyo:20260326T000000
DTSTAMP:20260419T235200
CREATED:20260228T004149Z
LAST-MODIFIED:20260228T004149Z
UID:49383-1774483200-1774483200@sururu58.com
SUMMARY:3月26日　休み
DESCRIPTION:
URL:https://sururu58.com/event/%e5%ae%9a%e4%bc%91%e6%97%a5-2-2-2-2-2-2-2-2-2-2-2-2-14-11-3-3-6-2/
CATEGORIES:holiday
END:VEVENT
BEGIN:VEVENT
DTSTART;VALUE=DATE:20260327
DTEND;VALUE=DATE:20260328
DTSTAMP:20260419T235200
CREATED:20260222T131610Z
LAST-MODIFIED:20260222T131610Z
UID:49374-1774569600-1774655999@sururu58.com
SUMMARY:3月27日　休み
DESCRIPTION:
URL:https://sururu58.com/event/%e5%ae%9a%e4%bc%91%e6%97%a5-2-2-2-2-2-2-2-2-2-2-2-2-14-11-3-3-4/
CATEGORIES:holiday
END:VEVENT
BEGIN:VEVENT
DTSTART;VALUE=DATE:20260328
DTEND;VALUE=DATE:20260329
DTSTAMP:20260419T235200
CREATED:20260319T100839Z
LAST-MODIFIED:20260327T025404Z
UID:49493-1774656000-1774742399@sururu58.com
SUMMARY:3月28日　休み
DESCRIPTION:
URL:https://sururu58.com/event/%e5%ae%9a%e4%bc%91%e6%97%a5-2-2-2-2-2-2-2-2-2-2-2-2-14-11-3-8-2/
CATEGORIES:holiday
END:VEVENT
BEGIN:VEVENT
DTSTART;TZID=Asia/Tokyo:20260329T000000
DTEND;TZID=Asia/Tokyo:20260329T000000
DTSTAMP:20260419T235200
CREATED:20260308T133238Z
LAST-MODIFIED:20260308T133238Z
UID:49440-1774742400-1774742400@sururu58.com
SUMMARY:3月29日　休み
DESCRIPTION:
URL:https://sururu58.com/event/%e5%ae%9a%e4%bc%91%e6%97%a5-2-2-2-2-2-2-2-2-2-2-2-2-14-11-3-3-4-2/
CATEGORIES:holiday
END:VEVENT
BEGIN:VEVENT
DTSTART;VALUE=DATE:20260330
DTEND;VALUE=DATE:20260331
DTSTAMP:20260419T235200
CREATED:20260209T040707Z
LAST-MODIFIED:20260327T040827Z
UID:49371-1774828800-1774915199@sururu58.com
SUMMARY:3月30日　休み
DESCRIPTION:
URL:https://sururu58.com/event/%e5%ae%9a%e4%bc%91%e6%97%a5-2-2-2-2-2-2-2-2-2-2-2-2-14-11-3-3-3/
CATEGORIES:holiday
END:VEVENT
BEGIN:VEVENT
DTSTART;TZID=Asia/Tokyo:20260331T000000
DTEND;TZID=Asia/Tokyo:20260331T000000
DTSTAMP:20260419T235200
CREATED:20260331T040553Z
LAST-MODIFIED:20260331T040553Z
UID:49512-1774915200-1774915200@sururu58.com
SUMMARY:3月31日　休み
DESCRIPTION:
URL:https://sururu58.com/event/%e5%ae%9a%e4%bc%91%e6%97%a5-2-2-2-2-2-2-2-2-2-2-2-2-14-11-3-3-3-3/
CATEGORIES:holiday
END:VEVENT
END:VCALENDAR