BEGIN:VCALENDAR
VERSION:2.0
PRODID:-//沖縄マリンスポーツ スルル - ECPv6.15.17//NONSGML v1.0//EN
CALSCALE:GREGORIAN
METHOD:PUBLISH
X-ORIGINAL-URL:https://sururu58.com
X-WR-CALDESC:沖縄マリンスポーツ スルル のイベント
REFRESH-INTERVAL;VALUE=DURATION:PT1H
X-Robots-Tag:noindex
X-PUBLISHED-TTL:PT1H
BEGIN:VTIMEZONE
TZID:Asia/Tokyo
BEGIN:STANDARD
TZOFFSETFROM:+0900
TZOFFSETTO:+0900
TZNAME:JST
DTSTART:20250101T000000
END:STANDARD
END:VTIMEZONE
BEGIN:VEVENT
DTSTART;VALUE=DATE:20260330
DTEND;VALUE=DATE:20260331
DTSTAMP:20260420T004447
CREATED:20260209T040707Z
LAST-MODIFIED:20260327T040827Z
UID:49371-1774828800-1774915199@sururu58.com
SUMMARY:3月30日　休み
DESCRIPTION:
URL:https://sururu58.com/event/%e5%ae%9a%e4%bc%91%e6%97%a5-2-2-2-2-2-2-2-2-2-2-2-2-14-11-3-3-3/
CATEGORIES:holiday
END:VEVENT
END:VCALENDAR