BEGIN:VCALENDAR
VERSION:2.0
PRODID:-//沖縄マリンスポーツ スルル - ECPv6.15.17//NONSGML v1.0//EN
CALSCALE:GREGORIAN
METHOD:PUBLISH
X-WR-CALNAME:沖縄マリンスポーツ スルル
X-ORIGINAL-URL:https://sururu58.com
X-WR-CALDESC:沖縄マリンスポーツ スルル のイベント
REFRESH-INTERVAL;VALUE=DURATION:PT1H
X-Robots-Tag:noindex
X-PUBLISHED-TTL:PT1H
BEGIN:VTIMEZONE
TZID:Asia/Tokyo
BEGIN:STANDARD
TZOFFSETFROM:+0900
TZOFFSETTO:+0900
TZNAME:JST
DTSTART:20250101T000000
END:STANDARD
END:VTIMEZONE
BEGIN:VEVENT
DTSTART;VALUE=DATE:20260112
DTEND;VALUE=DATE:20260113
DTSTAMP:20260420T045101
CREATED:20251014T034937Z
LAST-MODIFIED:20251014T034941Z
UID:48916-1768176000-1768262399@sururu58.com
SUMMARY:定休日 正月休み #2
DESCRIPTION:
URL:https://sururu58.com/event/%e5%ae%9a%e4%bc%91%e6%97%a5-2-2-2-2-2-2-2-2-2/
CATEGORIES:holiday
END:VEVENT
END:VCALENDAR