BEGIN:VCALENDAR
VERSION:2.0
PRODID:-//沖縄マリンスポーツ スルル - ECPv6.15.17//NONSGML v1.0//EN
CALSCALE:GREGORIAN
METHOD:PUBLISH
X-WR-CALNAME:沖縄マリンスポーツ スルル
X-ORIGINAL-URL:https://sururu58.com
X-WR-CALDESC:沖縄マリンスポーツ スルル のイベント
REFRESH-INTERVAL;VALUE=DURATION:PT1H
X-Robots-Tag:noindex
X-PUBLISHED-TTL:PT1H
BEGIN:VTIMEZONE
TZID:Asia/Tokyo
BEGIN:STANDARD
TZOFFSETFROM:+0900
TZOFFSETTO:+0900
TZNAME:JST
DTSTART:20250101T000000
END:STANDARD
END:VTIMEZONE
BEGIN:VEVENT
DTSTART;VALUE=DATE:20260613
DTEND;VALUE=DATE:20260614
DTSTAMP:20260420T063247
CREATED:20260409T102426Z
LAST-MODIFIED:20260409T102829Z
UID:49532-1781308800-1781395199@sururu58.com
SUMMARY:6月13日　福岡出張
DESCRIPTION:
URL:https://sururu58.com/event/%e5%ae%9a%e4%bc%91%e6%97%a5-2-2-2-2-2-2-2-2-2-2-2-2-14-11-3-7-4/
CATEGORIES:holiday
END:VEVENT
BEGIN:VEVENT
DTSTART;VALUE=DATE:20260614
DTEND;VALUE=DATE:20260615
DTSTAMP:20260420T063247
CREATED:20260409T102456Z
LAST-MODIFIED:20260409T102806Z
UID:49533-1781395200-1781481599@sururu58.com
SUMMARY:6月14日　福岡出張
DESCRIPTION:
URL:https://sururu58.com/event/%e5%ae%9a%e4%bc%91%e6%97%a5-2-2-2-2-2-2-2-2-2-2-2-2-14-11-3-7-5/
CATEGORIES:holiday
END:VEVENT
BEGIN:VEVENT
DTSTART;VALUE=DATE:20260615
DTEND;VALUE=DATE:20260616
DTSTAMP:20260420T063247
CREATED:20260409T102530Z
LAST-MODIFIED:20260409T102741Z
UID:49534-1781481600-1781567999@sururu58.com
SUMMARY:6月15日　福岡出張
DESCRIPTION:
URL:https://sururu58.com/event/%e5%ae%9a%e4%bc%91%e6%97%a5-2-2-2-2-2-2-2-2-2-2-2-2-14-11-3-7-6/
CATEGORIES:holiday
END:VEVENT
BEGIN:VEVENT
DTSTART;VALUE=DATE:20260616
DTEND;VALUE=DATE:20260617
DTSTAMP:20260420T063247
CREATED:20260409T102601Z
LAST-MODIFIED:20260409T102720Z
UID:49535-1781568000-1781654399@sururu58.com
SUMMARY:6月16日　福岡出張
DESCRIPTION:
URL:https://sururu58.com/event/%e5%ae%9a%e4%bc%91%e6%97%a5-2-2-2-2-2-2-2-2-2-2-2-2-14-11-3-7-7/
CATEGORIES:holiday
END:VEVENT
END:VCALENDAR