BEGIN:VCALENDAR
VERSION:2.0
PRODID:-//沖縄マリンスポーツ スルル - ECPv6.15.17//NONSGML v1.0//EN
CALSCALE:GREGORIAN
METHOD:PUBLISH
X-WR-CALNAME:沖縄マリンスポーツ スルル
X-ORIGINAL-URL:https://sururu58.com
X-WR-CALDESC:沖縄マリンスポーツ スルル のイベント
REFRESH-INTERVAL;VALUE=DURATION:PT1H
X-Robots-Tag:noindex
X-PUBLISHED-TTL:PT1H
BEGIN:VTIMEZONE
TZID:Asia/Tokyo
BEGIN:STANDARD
TZOFFSETFROM:+0900
TZOFFSETTO:+0900
TZNAME:JST
DTSTART:20240101T000000
END:STANDARD
END:VTIMEZONE
BEGIN:VEVENT
DTSTART;VALUE=DATE:20250926
DTEND;VALUE=DATE:20250927
DTSTAMP:20260420T094833
CREATED:20250808T042541Z
LAST-MODIFIED:20250808T042541Z
UID:48878-1758844800-1758931199@sururu58.com
SUMMARY:定休日
DESCRIPTION:
URL:https://sururu58.com/event/%e5%ae%9a%e4%bc%91%e6%97%a5-2-2/
CATEGORIES:holiday
END:VEVENT
BEGIN:VEVENT
DTSTART;VALUE=DATE:20250925
DTEND;VALUE=DATE:20250926
DTSTAMP:20260420T094833
CREATED:20250808T032226Z
LAST-MODIFIED:20250808T032226Z
UID:48872-1758758400-1758844799@sururu58.com
SUMMARY:定休日
DESCRIPTION:
URL:https://sururu58.com/event/%e5%ae%9a%e4%bc%91%e6%97%a5-2/
CATEGORIES:holiday
END:VEVENT
END:VCALENDAR